BEGIN:VCALENDAR
VERSION:2.0
PRODID:-//pretix//pretix.eu//
BEGIN:VTIMEZONE
TZID:Europe/London
BEGIN:STANDARD
DTSTART:20001029T030000
RRULE:FREQ=YEARLY;BYDAY=-1SU;BYMONTH=10
TZNAME:GMT
TZOFFSETFROM:+0100
TZOFFSETTO:+0000
END:STANDARD
BEGIN:DAYLIGHT
DTSTART:20000326T020000
RRULE:FREQ=YEARLY;BYDAY=-1SU;BYMONTH=3
TZNAME:BST
TZOFFSETFROM:+0000
TZOFFSETTO:+0100
END:DAYLIGHT
END:VTIMEZONE
BEGIN:VEVENT
UID:pretix-droidcon-dcldn24-0@tickets.droidcon.com
DTSTART;TZID=Europe/London:20241031T090000
DTEND;TZID=Europe/London:20241101T180000
DESCRIPTION:Tickets: https://tickets.droidcon.com/dcldn24/\nAdmission: 2024
 -10-31 10:00\nOrganizer: droidcon
DTSTAMP:20260422T041417Z
LOCATION:Business Design Centre\, 52 Upper Street\, London\, N1 0QH\, Unite
 d Kingdom
SUMMARY:2024 | London | droidcon & t3
END:VEVENT
END:VCALENDAR
